BEGIN:VCALENDAR
VERSION:2.0
PRODID:icalendar-ruby
CALSCALE:GREGORIAN
BEGIN:VEVENT
DTSTAMP:20260422T053036Z
UID:73b30989-d216-4e0d-a8bf-2a042876aba7
DTSTART;VALUE=DATE:20191116
DESCRIPTION:Property ID# 464535\, Locatoin: Harcourts Paremata at 12noon \,
  Time: 12:00PM
SUMMARY:Auction for 
END:VEVENT
END:VCALENDAR
