BEGIN:VCALENDAR
VERSION:2.0
PRODID:icalendar-ruby
CALSCALE:GREGORIAN
BEGIN:VEVENT
DTSTAMP:20260424T045325Z
UID:53226df9-7795-4dce-bac7-9794c34bc90e
DTSTART;VALUE=DATE:20210714
DESCRIPTION:Property ID# 511660\, Locatoin: Harcourts\, 7 Dolly Varden Cres
 cent\, Paremata\, Time: 5:00PM
SUMMARY:Auction for 
END:VEVENT
END:VCALENDAR
