BEGIN:VCALENDAR
VERSION:2.0
PRODID:icalendar-ruby
CALSCALE:GREGORIAN
BEGIN:VEVENT
DTSTAMP:20260424T045621Z
UID:f6031b36-f940-42fc-9588-4aa0d1d95efc
DTSTART;VALUE=DATE:20210903
DESCRIPTION:Property ID# 515437\, Locatoin: Harcourts via Zoom/telephone bi
 dding\, Time: 3:00PM
SUMMARY:Auction for 
END:VEVENT
END:VCALENDAR
