BEGIN:VCALENDAR
VERSION:2.0
PRODID:icalendar-ruby
CALSCALE:GREGORIAN
BEGIN:VEVENT
DTSTAMP:20260424T045923Z
UID:0847ffa0-41ab-41c5-806b-110d628270f6
DTSTART;VALUE=DATE:20211014
DESCRIPTION:Property ID# 516908\, Locatoin: Harcourts Paraparaumu from 12no
 on\, Time: 12:00PM
SUMMARY:Auction for 
END:VEVENT
END:VCALENDAR
