BEGIN:VCALENDAR
VERSION:2.0
PRODID:icalendar-ruby
CALSCALE:GREGORIAN
BEGIN:VEVENT
DTSTAMP:20260424T045611Z
UID:4b6dbf8b-b05b-4337-9610-77f737c2fe65
DTSTART;VALUE=DATE:20211202
DESCRIPTION:Property ID# 521365\, Locatoin: Harcourts Paraparaumu from 12no
 on (unless sold prior)\, Time: 12:00PM
SUMMARY:Auction for 
END:VEVENT
END:VCALENDAR
