BEGIN:VCALENDAR
VERSION:2.0
PRODID:icalendar-ruby
CALSCALE:GREGORIAN
BEGIN:VEVENT
DTSTAMP:20260424T045836Z
UID:2b583c93-dee0-47f6-8610-0f2ad6a453cd
DTSTART;VALUE=DATE:20220609
DESCRIPTION:Property ID# 534953\, Locatoin: Harcourts Auction Rooms\, Coast
 lands\, Paraparaumu (UNLESS SOLD PRIOR)\, Time: 12:00PM
SUMMARY:Auction for 
END:VEVENT
END:VCALENDAR
